BEGIN:VCALENDAR
VERSION:2.0
PRODID:-//D&amp;D Culemborg - ECPv6.15.20//NONSGML v1.0//EN
CALSCALE:GREGORIAN
METHOD:PUBLISH
X-ORIGINAL-URL:https://dndculemborg.nl
X-WR-CALDESC:Evenementen voor D&amp;D Culemborg
REFRESH-INTERVAL;VALUE=DURATION:PT1H
X-Robots-Tag:noindex
X-PUBLISHED-TTL:PT1H
BEGIN:VTIMEZONE
TZID:Europe/Amsterdam
BEGIN:DAYLIGHT
TZOFFSETFROM:+0100
TZOFFSETTO:+0200
TZNAME:CEST
DTSTART:20250330T010000
END:DAYLIGHT
BEGIN:STANDARD
TZOFFSETFROM:+0200
TZOFFSETTO:+0100
TZNAME:CET
DTSTART:20251026T010000
END:STANDARD
BEGIN:DAYLIGHT
TZOFFSETFROM:+0100
TZOFFSETTO:+0200
TZNAME:CEST
DTSTART:20260329T010000
END:DAYLIGHT
BEGIN:STANDARD
TZOFFSETFROM:+0200
TZOFFSETTO:+0100
TZNAME:CET
DTSTART:20261025T010000
END:STANDARD
BEGIN:DAYLIGHT
TZOFFSETFROM:+0100
TZOFFSETTO:+0200
TZNAME:CEST
DTSTART:20270328T010000
END:DAYLIGHT
BEGIN:STANDARD
TZOFFSETFROM:+0200
TZOFFSETTO:+0100
TZNAME:CET
DTSTART:20271031T010000
END:STANDARD
END:VTIMEZONE
BEGIN:VEVENT
DTSTART;TZID=Europe/Amsterdam:20260515T190000
DTEND;TZID=Europe/Amsterdam:20260515T220000
DTSTAMP:20260424T050202
CREATED:20260422T081918Z
LAST-MODIFIED:20260422T081956Z
UID:1542-1778871600-1778882400@dndculemborg.nl
SUMMARY:D&D One-Shot: Champions of Olympus
DESCRIPTION:ENGLISH TABLE / DEZE TAFEL SPEELT IN HET ENGELS \nBen je nieuwsgierig om je character-creation te testen? Én in het Engels te spelen?? Kom dan lekker naar Champions of Olympus\, een oude-griekse-stijl\, PvPvE gladiator gevecht waarin je je might-en-metal tegen andere spelers… zowel als iets anders ga testen! \nNog geïntereseerd? Creëer dan een level 6 character met de Gladiator (Entertainer) Background (en tenmínste één level in de Fighter class!); de rest is up-to-you! \nOver de Dungeonmaster:\nI am a DM who loves to come up with creative ideas for mechanics and stories. I speak both Dutch and English\, but prefer to run sessions in English! Beware\, not everything may be as it seems… \nOp welk level gaan de spelers starten?\nLevel 6 \nHet spel zal gespeeld worden in het\nEngels \nCharactersheets\nIk heb geen charactersheets\, spelers moeten er zelf één meenemen \nExtra informatie\nVergeet niet dat de prerequisites zijn:\n– Een ingevulde charactersheet\,\n– De Gladiator (Entertainer) background\, en\n– Tenminste één niveau in de Fighter class.\n– Toegang tot álle officiële D&D content is beschikbaar! Go wild!
URL:https://dndculemborg.nl/activiteit/dd-one-shot-champions-of-olympus/
LOCATION:Buurtcentrum Bolderburen\, Prijsseweg 1b\, Culemborg\, Gelderland\, 4105 LE\, Netherlands
CATEGORIES:Dungeons & Dragons,Speeltafels
ATTACH;FMTTYPE=image/jpeg:https://dndculemborg.nl/wp-content/uploads/2026/04/IMG_1059-e1776845950997.jpg
ORGANIZER;CN="D&D Culemborg":MAILTO:contact@dndculemborg.nl
END:VEVENT
BEGIN:VEVENT
DTSTART;TZID=Europe/Amsterdam:20260515T190000
DTEND;TZID=Europe/Amsterdam:20260515T220000
DTSTAMP:20260424T050202
CREATED:20260423T185112Z
LAST-MODIFIED:20260423T194055Z
UID:1567-1778871600-1778882400@dndculemborg.nl
SUMMARY:D&D One-Shot: Lightning in a Bottle
DESCRIPTION:Een vriendelijk beest van koper en schimmel komt telkens kort tot leven als hij wordt geraakt door bliksem. De hoop is dat als de bliksem sterk genoeg is dit beest permanent wakker blijft. \nVoor dit experiment gaat een groep avonturiers naar de reizende toren van een blauwe draak om zijn bliksem te stelen. \nDeze one-shot is een een heist met inspiratie uit Avatar the last Airbender\, Zelda en het Monster van Frankenstein.\nOmschrijving van jezelf\nDM van 8 jaar voor meerdere groepen\, voornamelijk D&D maar ook Call of Cthulhu en Candela Obscura. \nIedereen van all walks of life is welkom aan mijn tafel. \nOp welk level gaan de spelers starten?\nLevel 5 \nHet spel zal gespeeld worden in het\nNederlands \nCharactersheets\nIk heb charactersheets\, maar spelers mogen er zelf ook één meenemen \nExtra informatie\nVoor de spelers die zelf karakters maken\, lightning damage is handig maar niet noodzakelijk.
URL:https://dndculemborg.nl/activiteit/dd-one-shot-lightning-in-a-bottle/
LOCATION:Buurtcentrum Bolderburen\, Prijsseweg 1b\, Culemborg\, Gelderland\, 4105 LE\, Netherlands
CATEGORIES:Dungeons & Dragons,Speeltafels
ATTACH;FMTTYPE=image/jpeg:https://dndculemborg.nl/wp-content/uploads/2026/04/WhatsApp-Image-2026-04-22-at-18.44.27-e1776934991392.jpeg
ORGANIZER;CN="D&D Culemborg":MAILTO:contact@dndculemborg.nl
END:VEVENT
END:VCALENDAR