BEGIN:VCALENDAR
VERSION:2.0
PRODID:-//D&amp;D Culemborg - ECPv6.15.20//NONSGML v1.0//EN
CALSCALE:GREGORIAN
METHOD:PUBLISH
X-WR-CALNAME:D&amp;D Culemborg
X-ORIGINAL-URL:https://dndculemborg.nl
X-WR-CALDESC:Evenementen voor D&amp;D Culemborg
REFRESH-INTERVAL;VALUE=DURATION:PT1H
X-Robots-Tag:noindex
X-PUBLISHED-TTL:PT1H
BEGIN:VTIMEZONE
TZID:Europe/Amsterdam
BEGIN:DAYLIGHT
TZOFFSETFROM:+0100
TZOFFSETTO:+0200
TZNAME:CEST
DTSTART:20250330T010000
END:DAYLIGHT
BEGIN:STANDARD
TZOFFSETFROM:+0200
TZOFFSETTO:+0100
TZNAME:CET
DTSTART:20251026T010000
END:STANDARD
BEGIN:DAYLIGHT
TZOFFSETFROM:+0100
TZOFFSETTO:+0200
TZNAME:CEST
DTSTART:20260329T010000
END:DAYLIGHT
BEGIN:STANDARD
TZOFFSETFROM:+0200
TZOFFSETTO:+0100
TZNAME:CET
DTSTART:20261025T010000
END:STANDARD
BEGIN:DAYLIGHT
TZOFFSETFROM:+0100
TZOFFSETTO:+0200
TZNAME:CEST
DTSTART:20270328T010000
END:DAYLIGHT
BEGIN:STANDARD
TZOFFSETFROM:+0200
TZOFFSETTO:+0100
TZNAME:CET
DTSTART:20271031T010000
END:STANDARD
END:VTIMEZONE
BEGIN:VEVENT
DTSTART;TZID=Europe/Amsterdam:20260619T190000
DTEND;TZID=Europe/Amsterdam:20260619T220000
DTSTAMP:20260423T005017
CREATED:20260421T173923Z
LAST-MODIFIED:20260421T182212Z
UID:1538-1781895600-1781906400@dndculemborg.nl
SUMMARY:Daggerheart One-Shot: Introductie Campaign
DESCRIPTION:LET OP DIT IS GEEN DUNGEONS & DRAGONS\nmaar daarom niet minder leuk 😉 \nWelkom bij Daggerheart. Stel je voor: je zit aan tafel met vrienden\, dobbelstenen in de hand\, en samen vertel je een verhaal dat nog niemand ooit heeft gehoord. Geen scherm\, geen controller alleen jullie verbeelding\, een paar regels\, en een wereld die wacht om ontdekt te worden. \nDat is Daggerheart.\nEen wereld in gevaar. Helden gezocht. \nDe Gamemaster\nIk ben Koen\, creatieve Game Master die meegaat in élke situatie. Geen keuze te gek\, geen moment te onverwacht. Daggerheart is mijn favoriete manier om samen verhalen te vertellen. \nOp welk level gaan de spelers starten?\nLevel 1 \nHet spel zal gespeeld worden in het:\nNederlands \nCharactersheets\nIk heb charactersheets\, maar spelers mogen er zelf ook één meenemen \nExtra informatie\nWe kunnen kijken of Nederlands of Engels leuk is. Mag allebei. Hangt van de groep af 😉
URL:https://dndculemborg.nl/activiteit/daggerheart-one-shot-daggerheart-introductie-campaign/
LOCATION:Buurtcentrum Bolderburen\, Prijsseweg 1b\, Culemborg\, Gelderland\, 4105 LE\, Netherlands
CATEGORIES:Daggerheart,Speeltafels
ATTACH;FMTTYPE=image/jpeg:https://dndculemborg.nl/wp-content/uploads/2026/04/ChatGPT-Image-21-apr-2026-18_07_48-e1776793251237.jpg
ORGANIZER;CN="D&D Culemborg":MAILTO:contact@dndculemborg.nl
END:VEVENT
END:VCALENDAR