BEGIN:VCALENDAR
VERSION:2.0
PRODID:-//D&amp;D Culemborg - ECPv6.15.20//NONSGML v1.0//EN
CALSCALE:GREGORIAN
METHOD:PUBLISH
X-WR-CALNAME:D&amp;D Culemborg
X-ORIGINAL-URL:https://dndculemborg.nl
X-WR-CALDESC:Evenementen voor D&amp;D Culemborg
REFRESH-INTERVAL;VALUE=DURATION:PT1H
X-Robots-Tag:noindex
X-PUBLISHED-TTL:PT1H
BEGIN:VTIMEZONE
TZID:Europe/Amsterdam
BEGIN:DAYLIGHT
TZOFFSETFROM:+0100
TZOFFSETTO:+0200
TZNAME:CEST
DTSTART:20250330T010000
END:DAYLIGHT
BEGIN:STANDARD
TZOFFSETFROM:+0200
TZOFFSETTO:+0100
TZNAME:CET
DTSTART:20251026T010000
END:STANDARD
BEGIN:DAYLIGHT
TZOFFSETFROM:+0100
TZOFFSETTO:+0200
TZNAME:CEST
DTSTART:20260329T010000
END:DAYLIGHT
BEGIN:STANDARD
TZOFFSETFROM:+0200
TZOFFSETTO:+0100
TZNAME:CET
DTSTART:20261025T010000
END:STANDARD
BEGIN:DAYLIGHT
TZOFFSETFROM:+0100
TZOFFSETTO:+0200
TZNAME:CEST
DTSTART:20270328T010000
END:DAYLIGHT
BEGIN:STANDARD
TZOFFSETFROM:+0200
TZOFFSETTO:+0100
TZNAME:CET
DTSTART:20271031T010000
END:STANDARD
END:VTIMEZONE
BEGIN:VEVENT
DTSTART;TZID=Europe/Amsterdam:20260417T190000
DTEND;TZID=Europe/Amsterdam:20260417T220000
DTSTAMP:20260420T151743
CREATED:20260205T185130Z
LAST-MODIFIED:20260223T080543Z
UID:715-1776452400-1776463200@dndculemborg.nl
SUMMARY:Dungeon Master Workshop
DESCRIPTION:Ben je nieuw als Dungeon Master en wil je ontdekken hoe je een D&D-sessie begeleidt? In onze beginnersworkshops leer je de basis: van het voorbereiden van een eenvoudig avontuur tot het omgaan met spelers aan tafel. \nEen ervaren DM begeleidt je stap voor stap. Je leert hoe je een wereld opzet\, personages tot leven brengt en hoe je de spelregels toepast op een toegankelijke manier. Of je nu ooit een epische campagne wilt leiden of gewoon een leuke one-shot voor vrienden wilt runnen\, deze workshop helpt je op weg.
URL:https://dndculemborg.nl/activiteit/dungeon-master-workshop/
LOCATION:Buurtcentrum Bolderburen\, Prijsseweg 1b\, Culemborg\, Gelderland\, 4105 LE\, Netherlands
CATEGORIES:D&D Café,Workshops
ATTACH;FMTTYPE=image/jpeg:https://dndculemborg.nl/wp-content/uploads/2026/02/IMG_2215-scaled.jpeg
ORGANIZER;CN="D&D Culemborg":MAILTO:contact@dndculemborg.nl
END:VEVENT
BEGIN:VEVENT
DTSTART;TZID=Europe/Amsterdam:20260220T190000
DTEND;TZID=Europe/Amsterdam:20260220T220000
DTSTAMP:20260420T151743
CREATED:20260205T130042Z
LAST-MODIFIED:20260223T080605Z
UID:650-1771614000-1771624800@dndculemborg.nl
SUMMARY:Character Creation Workshop
DESCRIPTION:Wil je je eigen held of heldin creëren om de wereld van Dungeons & Dragons te verkennen? In onze karaktercreatie-workshop helpen ervaren spelers je stap voor stap met het maken van een uniek personage dat past bij jouw speelstijl. \nJe leert hoe je rassen\, klassen\, vaardigheden en attributen kiest\, en hoe je achtergrondverhalen en persoonlijke doelen toevoegt om je karakter echt tot leven te brengen. \nOf je nu een dappere krijger\, een sluwe dief of een wijze tovenaar wilt spelen\, deze workshop biedt de begeleiding en inspiratie om direct klaar te zijn voor avontuur.
URL:https://dndculemborg.nl/activiteit/character-creation-workshop/
LOCATION:Buurtcentrum Bolderburen\, Prijsseweg 1b\, Culemborg\, Gelderland\, 4105 LE\, Netherlands
CATEGORIES:D&D Café,Workshops
ATTACH;FMTTYPE=image/jpeg:https://dndculemborg.nl/wp-content/uploads/2026/01/Character-Creation-scaled.jpg
ORGANIZER;CN="D&D Culemborg":MAILTO:contact@dndculemborg.nl
END:VEVENT
END:VCALENDAR