BEGIN:VCALENDAR
VERSION:2.0
PRODID:-//D&amp;D Culemborg - ECPv6.15.20//NONSGML v1.0//EN
CALSCALE:GREGORIAN
METHOD:PUBLISH
X-ORIGINAL-URL:https://dndculemborg.nl
X-WR-CALDESC:Evenementen voor D&amp;D Culemborg
REFRESH-INTERVAL;VALUE=DURATION:PT1H
X-Robots-Tag:noindex
X-PUBLISHED-TTL:PT1H
BEGIN:VTIMEZONE
TZID:Europe/Amsterdam
BEGIN:DAYLIGHT
TZOFFSETFROM:+0100
TZOFFSETTO:+0200
TZNAME:CEST
DTSTART:20250330T010000
END:DAYLIGHT
BEGIN:STANDARD
TZOFFSETFROM:+0200
TZOFFSETTO:+0100
TZNAME:CET
DTSTART:20251026T010000
END:STANDARD
BEGIN:DAYLIGHT
TZOFFSETFROM:+0100
TZOFFSETTO:+0200
TZNAME:CEST
DTSTART:20260329T010000
END:DAYLIGHT
BEGIN:STANDARD
TZOFFSETFROM:+0200
TZOFFSETTO:+0100
TZNAME:CET
DTSTART:20261025T010000
END:STANDARD
BEGIN:DAYLIGHT
TZOFFSETFROM:+0100
TZOFFSETTO:+0200
TZNAME:CEST
DTSTART:20270328T010000
END:DAYLIGHT
BEGIN:STANDARD
TZOFFSETFROM:+0200
TZOFFSETTO:+0100
TZNAME:CET
DTSTART:20271031T010000
END:STANDARD
END:VTIMEZONE
BEGIN:VEVENT
DTSTART;TZID=Europe/Amsterdam:20260417T190000
DTEND;TZID=Europe/Amsterdam:20260417T220000
DTSTAMP:20260420T185927
CREATED:20260317T061355Z
LAST-MODIFIED:20260321T200642Z
UID:1430-1776452400-1776463200@dndculemborg.nl
SUMMARY:Gumshoe One-Shot: Het tropische tij keert - Night's Black Agents
DESCRIPTION:Omschrijving: \nIn dit avontuur spelen de spelers geheim agenten tijdens de koude oorlog gestuurd op een missie om de vastgoedmagnaat Karl August Magnussen te vinden en uit te schakelen. Magnussen leeft namelijk een dubbel leven. Hij is filantroop\, en iemand die veel aan goede doelen doet tijdens publieke optredens. Maar in het echte leven is hij een beruchte wapenhandelaar. Alle middelen zijn toegestaan\, want je hebt immers “A licence to kill”. \nGespeeld met het spelsysteem “Gumshoe” van Pelgrane Press. \nNight’s Black Agents speelt zich af in een duistere versie van onze wereld. Normaal is het een gothic horror setting\, maar wij spelen een variant van het spel zonder bovennatuurlijke elementen. Dat gezegd te hebben\, het spelsysteem kan vaak duister zijn dus serieuze onderwerpen zoals wapenhandel\, oorlog\, moord\, criminaliteit en drugs zijn zeker van toepassing. Voel je je ongemakkelijk met deze onderwerpen\, wat begrijpelijk is\, dan raad ik niet aan dit spelsysteem te spelen. \nDe Game Master \nHallo\, ik ben Krijn! Ik ben een nieuwe DM hier\, maar met wat spelervaring onder de knie (vooral D&D 5e 2014). Ben vooral DM voor mijn vrienden\, maar wil ook eens wat nieuwe spelsystemen proberen! \nCharactersheets \nDe GM heeft charactersheets\, maar spelers mogen er zelf ook één meenemen
URL:https://dndculemborg.nl/activiteit/het-tropische-tij-keert-nights-black-agents/
LOCATION:Buurtcentrum Bolderburen\, Prijsseweg 1b\, Culemborg\, Gelderland\, 4105 LE\, Netherlands
CATEGORIES:D&D Café,Gumshoe,Speeltafels
ATTACH;FMTTYPE=image/jpeg:https://dndculemborg.nl/wp-content/uploads/2026/03/IMG-20260317-WA0000.jpg
ORGANIZER;CN="D&D Culemborg":MAILTO:contact@dndculemborg.nl
END:VEVENT
END:VCALENDAR